Workbook
Name rep: Calcul!$B$3:$B$36

Sheet Évaluation
A2: TEST DE CONNAISSANCES EXCEL
A4: NOM / Prénom
A5: Entreprise
A6: Site Session | B6: Ouvrez la liste et sélectionnez un lieu de formation
A7: Téléphone
A8: Fonction
A17: Niveau souhaité
A19: Quels logiciels utilisez-vous et depuis combien de temps ?
A21: Quelle version logicielle utilisez-vous ? (Fichier / Compte)
A22: Pack Office
A23: Système
A24: Avez-vous déjà suivi une formation Excel chez Sifco ?
A25: Si oui, sur quel(s) niveau(x)
A27: Quels travaux souhaitez-vous être en mesure de réaliser à l’issue de la formation ?
A29: Etes-vous capable de :
A30: Organiser son poste de travail
... A103: Enregistrer le classeur au bon format
A104: =IF(Calcul!A81="","",IF(Calcul!A81="initiation windows","**Nous vous conseillons d'appronfondir vos connaissances Windows",""))
A105: =IF(Calcul!B67=0,"",IF(AND(Calcul!C67<60%,Calcul!C70<50%),"L'analyse de vos résultats nous permet de vous conseiller le stage Excel Fonctions essentielles",IF(AND(Calcul!C67>=60%,Calcul!C70<=50%),"L'analyse de vos résultats nous permet de vous conseiller le stage Excel Perfectionnement",IF(Calcul!C73<=70%,"L'analyse de vos résultats nous permet de vous conseiller le stage Excel Maîtrise","Vous devriez vous orienter vers les Power_Platform"))))
A106: =IF(A105="","","** Nous vous invitons à lire ce programme pour confirmer le résultat de cette évaluation. **")
A108: Licence d'utilisation concédée à SIFCO Patrick Riegert - © 2004/2022

Sheet Calcul
A1: =Évaluation!B4 -> 0
B2: Réponses | C2: Evaluation | E2: Code des couleurs
A3: Quest 1 | C3: =IF(B3=2,"init","") | E3: Windows
A4: Quest 2 | C4: =IF(B4=2,"init","") | E4: Excel F. Essentielles
A5: Quest 3 | C5: =IF(B5=2,"init","") | E5: Excel Perfectionnement
A6: Quest 4 | C6: =IF(B6=2,"init","") | E6: Excel Maîtrise
A7: Quest 5 | C7: =IF(B7=2,"init","") | E7: Excel VBA
A8: Quest 6 | C8: =IF(B8=2,"init","")
A9: Quest 7 | C9: =IF(B9=2,"init","")
A10: Quest 8 | C10: =IF(B10=2,"init","")
A11: Quest 9 | C11: =IF(B11=2,"init","")
A12: Quest 10 | C12: =IF(B12=2,"init","")
A13: Quest 11 | C13: =IF(B13=2,"init","")
A14: Quest 12 | C14: =IF(B14=2,"init","")
A15: Quest 13 | C15: =IF(B15=2,"init","")
A16: Quest 14 | C16: =IF(B16=2,"init","")
A17: Quest 15 | C17: =IF(B17=2,"init","")
A18: Quest 16 | C18: =IF(B18=2,"init","")
A19: Quest 17 | C19: =IF(B19=2,"init","")
... A64: Quest 62 | C64: =IF(B64=2,"init","")
A66: Statistiques | B66: Nb | C66: %
A67: Nb de 1 (oui) initiation | B67: =COUNTIF(Feuil3!$B$2:$B$21,1) -> 0 | C67: =B67/$B$69 -> 0
A68: Nb de 2 (non)initiation | B68: =COUNTIF(Feuil3!$B$2:$B$21,2) -> 16 | C68: =B68/$B$69 -> 1
A69: Total réponses initiation | B69: =SUM(B67:B68) -> 16 | C69: =SUM(C67:C68) -> 1
A70: Nb de 1 (oui) autonomie | B70: =COUNTIF(Feuil3!B23:B34,1) -> 0 | C70: =B70/$B$72 -> 0
A71: Nb de 2 (non) autonomie | B71: =COUNTIF(Feuil3!B23:B34,2) -> 12 | C71: =B71/$B$72 -> 1
A72: Total réponses autonomie | B72: =SUM(B70:B71) -> 12 | C72: =SUM(C70:C71) -> 1
A73: Nb de 1 (oui) Maîtrise | B73: =COUNTIF(Feuil3!B36:B58,1) -> 0 | C73: =B73/$B$75 -> 0
A74: Nb de 2 (non) Maitrise | B74: =COUNTIF(Feuil3!B36:B58,2) -> 23 | C74: =B74/$B$75 -> 1
A75: Total réponses Maîtrise | B75: =SUM(B73:B74) -> 23 | C75: =SUM(C73:C74) -> 1
A76: Nb de 1 VBA | B76: =COUNTIF(Feuil3!B59:B63,1) -> 0 | C76: =B76/$B$78 -> 0
A77: Nb de 2 VBA | B77: =COUNTIF(Feuil3!B59:B63,2) -> 5 | C77: =B77/$B$78 -> 1
A78: Total VBA | B78: =SUM(B76:B77) -> 5 | C78: =SUM(C76:C77) -> 1
A79: Total questions | B79: =COUNTA(Évaluation!A31:A36,Évaluation!A38:A48,Évaluation!A50:A52,Évaluation!A54:A57,Évaluation!A59:A60,Évaluation!A62:A64,Évaluation!A66:A70,Évaluation!A72:B77,Évaluation!A80:B84,Évaluation!A86:B97,Évaluation!A99:B103) -> 62 | C79: =(B67+B70+B73+B76)/(B69+B72+B75+B78) -> 0
A80: Stage conseillé
A81: =IF(OR(C4="init",C5="init",C6="init"),"Initiation Windows","")
A82: =IF(B69=0,"",IF(C67<=62%,"Excel Fonctions Essentielles","Excel Perfectionnement")) -> Excel Fonctions Essentielles

Sheet Feuil3
A1: 0
A2: 6
A5: Analyse initiation
A6: Quest 7 | B6: =IF(Calcul!B9=1,1,2) -> 2
A7: Quest 8 | B7: =IF(Calcul!B10=1,1,2) -> 2
A8: Quest 9 | B8: =IF(Calcul!B11=1,1,2) -> 2
A9: Quest 10 | B9: =IF(Calcul!B12=1,1,2) -> 2
A10: Quest 11 | B10: =IF(Calcul!B13=1,1,2) -> 2
A11: Quest 12 | B11: =IF(Calcul!B14=1,1,2) -> 2
A12: Quest 13 | B12: =IF(Calcul!B15=1,1,2) -> 2
A13: Quest 14 | B13: =IF(Calcul!B16=1,1,2) -> 2
A14: Quest 21 | B14: =IF(Calcul!B23=1,1,2) -> 2
A15: Quest 22 | B15: =IF(Calcul!B24=1,1,2) -> 2
A16: Quest 23 | B16: =IF(Calcul!B25=1,1,2) -> 2
A17: Quest 24 | B17: =IF(Calcul!B26=1,1,2) -> 2
A18: Quest 27 | B18: =IF(Calcul!B29=1,1,2) -> 2
A19: Quest 28 | B19: =IF(Calcul!B30=1,1,2) -> 2
A20: Quest 29 | B20: =IF(Calcul!B31=1,1,2) -> 2
A21: Quest 34 | B21: =IF(Calcul!B36=1,1,2) -> 2
A22: Analyse autonomie
A23: Quest 15 | B23: =IF(Calcul!B17=1,1,2) -> 2
A24: Quest 16 | B24: =IF(Calcul!B18=1,1,2) -> 2
A25: Quest 17 | B25: =IF(Calcul!B19=1,1,2) -> 2
A26: Quest 18 | B26: =IF(Calcul!B20=1,1,2) -> 2
A27: Quest 19 | B27: =IF(Calcul!B21=1,1,2) -> 2
A28: Quest 20 | B28: =IF(Calcul!B22=1,1,2) -> 2
A29: Quest 25 | B29: =IF(Calcul!B27=1,1,2) -> 2
A30: Quest 26 | B30: =IF(Calcul!B28=1,1,2) -> 2
A31: Quest 30 | B31: =IF(Calcul!B32=1,1,2) -> 2
A32: Quest 31 | B32: =IF(Calcul!B33=1,1,2) -> 2
A33: Quest 32 | B33: =IF(Calcul!B34=1,1,2) -> 2
A34: Quest 33 | B34: =IF(Calcul!B35=1,1,2) -> 2
A35: analyse Maîtrise et VBA
A36: Quest 35 | B36: =IF(Calcul!B37=1,1,2) -> 2
A37: Quest 36 | B37: =IF(Calcul!B38=1,1,2) -> 2
A38: Quest 37 | B38: =IF(Calcul!B39=1,1,2) -> 2
A39: Quest 38 | B39: =IF(Calcul!B40=1,1,2) -> 2
A40: Quest 39 | B40: =IF(Calcul!B41=1,1,2) -> 2
A41: Quest 40 | B41: =IF(Calcul!B42=1,1,2) -> 2
A42: Quest 41 | B42: =IF(Calcul!B43=1,1,2) -> 2
...
